BEGIN:VCALENDAR
VERSION:2.0
PRODID:-//Low-Carb Events - ECPv6.15.20//NONSGML v1.0//EN
CALSCALE:GREGORIAN
METHOD:PUBLISH
X-WR-CALNAME:Low-Carb Events
X-ORIGINAL-URL:https://www.lowcarbevents.com
X-WR-CALDESC:Events for Low-Carb Events
REFRESH-INTERVAL;VALUE=DURATION:PT1H
X-Robots-Tag:noindex
X-PUBLISHED-TTL:PT1H
BEGIN:VTIMEZONE
TZID:America/Chicago
BEGIN:DAYLIGHT
TZOFFSETFROM:-0600
TZOFFSETTO:-0500
TZNAME:CDT
DTSTART:20220313T080000
END:DAYLIGHT
BEGIN:STANDARD
TZOFFSETFROM:-0500
TZOFFSETTO:-0600
TZNAME:CST
DTSTART:20221106T070000
END:STANDARD
BEGIN:DAYLIGHT
TZOFFSETFROM:-0600
TZOFFSETTO:-0500
TZNAME:CDT
DTSTART:20230312T080000
END:DAYLIGHT
BEGIN:STANDARD
TZOFFSETFROM:-0500
TZOFFSETTO:-0600
TZNAME:CST
DTSTART:20231105T070000
END:STANDARD
BEGIN:DAYLIGHT
TZOFFSETFROM:-0600
TZOFFSETTO:-0500
TZNAME:CDT
DTSTART:20240310T080000
END:DAYLIGHT
BEGIN:STANDARD
TZOFFSETFROM:-0500
TZOFFSETTO:-0600
TZNAME:CST
DTSTART:20241103T070000
END:STANDARD
END:VTIMEZONE
BEGIN:VEVENT
DTSTART;TZID=America/Chicago:20230923T100000
DTEND;TZID=America/Chicago:20230923T160000
DTSTAMP:20260423T101830
CREATED:20230920T154304Z
LAST-MODIFIED:20230920T154422Z
UID:10000178-1695463200-1695484800@www.lowcarbevents.com
SUMMARY:Cincinnati  Tri-State MEAT Up
DESCRIPTION:Come join us for the FIRST Cincinnati Tri-State MEAT Up at Sharon Woods in Sharonville\, Ohio.\nWe have reserved the Buckeye Shelter in Sharon Woods 10 am – 4 pm. It has a grill\, and we are providing charcoal\, grilling utensils\, and table cloths. Everything else is BYOE (Bring Your Own Everything!). We’ll head out for a 2.8 mile trail hike at 11 am. Let’s share our stories and a beautiful afternoon in the park. \nSharon Woods : Buckeye Shelter\n11450 Lebanon Road\nSharonville\, OH 45241\nhttps://www.greatparks.org/parks/sharon-woods \nOrganized by Karen Burton\, PHD Member\nKarenSueBurton20@gmail.com
URL:https://www.lowcarbevents.com/event/cincinnati-tri-state-meat-up/
LOCATION:Sharon Woods Buckeye Shelter\, 11450 Lebanon Road\, Sharonville\, OH\, United States
CATEGORIES:North America
ATTACH;FMTTYPE=image/jpeg:https://www.lowcarbevents.com/wp-content/uploads/2023/09/Sharong-Woods.jpg
ORGANIZER;CN="Karen Burton":MAILTO:KarenSueBurton20@gmail.com
GEO:39.2789467;-84.3988676
X-APPLE-STRUCTURED-LOCATION;VALUE=URI;X-ADDRESS=Sharon Woods Buckeye Shelter 11450 Lebanon Road Sharonville OH United States;X-APPLE-RADIUS=500;X-TITLE=11450 Lebanon Road:geo:-84.3988676,39.2789467
END:VEVENT
END:VCALENDAR