BEGIN:VCALENDAR
VERSION:2.0
PRODID:-//Low-Carb Events - ECPv6.15.20//NONSGML v1.0//EN
CALSCALE:GREGORIAN
METHOD:PUBLISH
X-WR-CALNAME:Low-Carb Events
X-ORIGINAL-URL:https://www.lowcarbevents.com
X-WR-CALDESC:Events for Low-Carb Events
REFRESH-INTERVAL;VALUE=DURATION:PT1H
X-Robots-Tag:noindex
X-PUBLISHED-TTL:PT1H
BEGIN:VTIMEZONE
TZID:America/New_York
BEGIN:DAYLIGHT
TZOFFSETFROM:-0500
TZOFFSETTO:-0400
TZNAME:EDT
DTSTART:20230312T070000
END:DAYLIGHT
BEGIN:STANDARD
TZOFFSETFROM:-0400
TZOFFSETTO:-0500
TZNAME:EST
DTSTART:20231105T060000
END:STANDARD
BEGIN:DAYLIGHT
TZOFFSETFROM:-0500
TZOFFSETTO:-0400
TZNAME:EDT
DTSTART:20240310T070000
END:DAYLIGHT
BEGIN:STANDARD
TZOFFSETFROM:-0400
TZOFFSETTO:-0500
TZNAME:EST
DTSTART:20241103T060000
END:STANDARD
BEGIN:DAYLIGHT
TZOFFSETFROM:-0500
TZOFFSETTO:-0400
TZNAME:EDT
DTSTART:20250309T070000
END:DAYLIGHT
BEGIN:STANDARD
TZOFFSETFROM:-0400
TZOFFSETTO:-0500
TZNAME:EST
DTSTART:20251102T060000
END:STANDARD
BEGIN:DAYLIGHT
TZOFFSETFROM:-0500
TZOFFSETTO:-0400
TZNAME:EDT
DTSTART:20260308T070000
END:DAYLIGHT
BEGIN:STANDARD
TZOFFSETFROM:-0400
TZOFFSETTO:-0500
TZNAME:EST
DTSTART:20261101T060000
END:STANDARD
END:VTIMEZONE
BEGIN:VEVENT
DTSTART;TZID=America/New_York:20250628T130000
DTEND;TZID=America/New_York:20250628T170000
DTSTAMP:20260423T074856
CREATED:20250127T183201Z
LAST-MODIFIED:20250127T183201Z
UID:10001670-1751115600-1751130000@www.lowcarbevents.com
SUMMARY:Safe Harbor Live 2025 Ohio Meat up
DESCRIPTION:KETO MEAT & GREET\nLakengren Lodge\n210 Norwegian Dr.\nEaton\, Ohio \nJUNE 28\, 2025\n1:00-5:00PM \n$20/Person cash at the door\nALL MEAT PROVIDED If you want to bring a side\, no problem. \nJoin us in celebrating the gathering of family and friends to enjoy delicious meat treats while basking in the sun\, playing games\, and reveling in the company of others in this annual event. RSVP at safeharborlive@gmail.com \nThere will be a swap table for keto items. There will also be a table for people to show off their products to sell. 10% of sales will go to charity.
URL:https://www.lowcarbevents.com/event/safe-harbor-live-2025-ohio-meat-up/
LOCATION:Lakengren Lodge\, 210 Norwegian Dr.\, Eaton\, OH\, United States
CATEGORIES:North America
ATTACH;FMTTYPE=image/jpeg:https://www.lowcarbevents.com/wp-content/uploads/2025/01/meet-and-greet.jpg
GEO:39.686067;-84.687993
X-APPLE-STRUCTURED-LOCATION;VALUE=URI;X-ADDRESS=Lakengren Lodge 210 Norwegian Dr. Eaton OH United States;X-APPLE-RADIUS=500;X-TITLE=210 Norwegian Dr.:geo:-84.687993,39.686067
END:VEVENT
BEGIN:VEVENT
DTSTART;TZID=America/New_York:20240629T130000
DTEND;TZID=America/New_York:20240629T170000
DTSTAMP:20260423T074856
CREATED:20240304T174608Z
LAST-MODIFIED:20240304T174608Z
UID:10000531-1719666000-1719680400@www.lowcarbevents.com
SUMMARY:Safe Harbor Live Presents: An Ohio Keto Meat n Greet
DESCRIPTION:June 29\, 2024\, 1-5 pm\nAt Lakengren Lodge\n210 Norwegian Dr\, Eaton\, Ohio \n$20/person Cash ALL FOOD PROVIDED \nJoin us in celebrating the gathering of family and friends to enjoy delicious meat treats while basking in the sun\, playing games\, and reveling in the company of others in the 1st event and launch of SAFE HARBOR LIVE\, a safe place for all people who live the low carb lifestyle.
URL:https://www.lowcarbevents.com/event/safe-harbor-live-presents-an-ohio-keto-meat-n-greet/
LOCATION:Lakengren Lodge\, 210 Norwegian Dr.\, Eaton\, OH\, United States
CATEGORIES:North America
ATTACH;FMTTYPE=image/jpeg:https://www.lowcarbevents.com/wp-content/uploads/2024/03/Safe-Harbor-Live-2024-Meat-n-Greet-6292024.jpg
GEO:39.686067;-84.687993
X-APPLE-STRUCTURED-LOCATION;VALUE=URI;X-ADDRESS=Lakengren Lodge 210 Norwegian Dr. Eaton OH United States;X-APPLE-RADIUS=500;X-TITLE=210 Norwegian Dr.:geo:-84.687993,39.686067
END:VEVENT
END:VCALENDAR