BEGIN:VCALENDAR
VERSION:2.0
PRODID:-//Low-Carb Events - ECPv6.15.20//NONSGML v1.0//EN
CALSCALE:GREGORIAN
METHOD:PUBLISH
X-WR-CALNAME:Low-Carb Events
X-ORIGINAL-URL:https://www.lowcarbevents.com
X-WR-CALDESC:Events for Low-Carb Events
REFRESH-INTERVAL;VALUE=DURATION:PT1H
X-Robots-Tag:noindex
X-PUBLISHED-TTL:PT1H
BEGIN:VTIMEZONE
TZID:America/Los_Angeles
BEGIN:DAYLIGHT
TZOFFSETFROM:-0800
TZOFFSETTO:-0700
TZNAME:PDT
DTSTART:20240310T100000
END:DAYLIGHT
BEGIN:STANDARD
TZOFFSETFROM:-0700
TZOFFSETTO:-0800
TZNAME:PST
DTSTART:20241103T090000
END:STANDARD
BEGIN:DAYLIGHT
TZOFFSETFROM:-0800
TZOFFSETTO:-0700
TZNAME:PDT
DTSTART:20250309T100000
END:DAYLIGHT
BEGIN:STANDARD
TZOFFSETFROM:-0700
TZOFFSETTO:-0800
TZNAME:PST
DTSTART:20251102T090000
END:STANDARD
BEGIN:DAYLIGHT
TZOFFSETFROM:-0800
TZOFFSETTO:-0700
TZNAME:PDT
DTSTART:20260308T100000
END:DAYLIGHT
BEGIN:STANDARD
TZOFFSETFROM:-0700
TZOFFSETTO:-0800
TZNAME:PST
DTSTART:20261101T090000
END:STANDARD
END:VTIMEZONE
BEGIN:VEVENT
DTSTART;TZID=America/Los_Angeles:20250621T163000
DTEND;TZID=America/Los_Angeles:20250621T190000
DTSTAMP:20260423T141438
CREATED:20250602T134141Z
LAST-MODIFIED:20250602T134141Z
UID:10001684-1750523400-1750532400@www.lowcarbevents.com
SUMMARY:PALM SPRINGS MEAT UP DINNER EVENT
DESCRIPTION:Join Dr Lisa Wiedeman & Courtney Luna for an amazing carnivore get together!\nCome join together for a gathering of meaty food & conversation with other amazing like-minded people! \nSATURDAY\nJUNE 21\, 2025\n4:30pm – 7:00pm \nEVENT LOCATION:\nChurrasco Brazilian Steakhouse\n450 S Palm Canyon Drive\nPalm Springs CA 92262 \nWe are looking forward to meeting you! \nPLEASE NOTE!\nNon-carnivore friends and family are all absolutely welcome too! \nProceeds past the cost of your meal will be donated to:\nwww.thecarnivorehealingretreat.com\nhttps://gofund.me/ffe8ef15\nStephen “Lash” Lashbrook will be in attendance with us to share about his Carnivore Wellness Sanctuary he is creating in the Colorado Rockies to help others on their healing journeys
URL:https://www.lowcarbevents.com/event/palm-springs-meat-up-dinner-event/
LOCATION:Churrasco Brazilian Steakhouse\, 450 S Palm Canyon Drive\, Palm Springs\, CA\, 92262\, United States
CATEGORIES:North America
ATTACH;FMTTYPE=image/png:https://www.lowcarbevents.com/wp-content/uploads/2025/05/PALMSPRINGMEATUP.png.png
GEO:33.8168283;-116.5465188
X-APPLE-STRUCTURED-LOCATION;VALUE=URI;X-ADDRESS=DESCRIPTION:Join Dr Lisa Wiedeman & Courtney Luna for an amazing carnivore get together!\nCome join together for a gathering of meaty food & conversation with other amazing like-minded people! \nSATURDAY\nJUNE 21 2025\n4:30pm – 7:00pm \nEVENT \nChurrasco Brazilian Steakhouse\n450 S Palm Canyon Drive\nPalm Springs CA 92262 \nWe are looking forward to meeting you! \nPLEASE NOTE!\nNon-carnivore friends and family are all absolutely welcome too! \nProceeds past the cost of your meal will be donated to:\nwww.thecarnivorehealingretreat.com\nhttps://gofund.me/ffe8ef15\nStephen “Lash” Lashbrook will be in attendance with us to share about his Carnivore Wellness Sanctuary he is creating in the Colorado Rockies to help others on their healing journeys;X-APPLE-RADIUS=500;X-TITLE=450 S Palm Canyon Drive:geo:-116.5465188,33.8168283
END:VEVENT
END:VCALENDAR