BEGIN:VCALENDAR
VERSION:2.0
PRODID:-//Low-Carb Events - ECPv6.15.20//NONSGML v1.0//EN
CALSCALE:GREGORIAN
METHOD:PUBLISH
X-ORIGINAL-URL:https://www.lowcarbevents.com
X-WR-CALDESC:Events for Low-Carb Events
REFRESH-INTERVAL;VALUE=DURATION:PT1H
X-Robots-Tag:noindex
X-PUBLISHED-TTL:PT1H
BEGIN:VTIMEZONE
TZID:America/Chicago
BEGIN:DAYLIGHT
TZOFFSETFROM:-0600
TZOFFSETTO:-0500
TZNAME:CDT
DTSTART:20230312T080000
END:DAYLIGHT
BEGIN:STANDARD
TZOFFSETFROM:-0500
TZOFFSETTO:-0600
TZNAME:CST
DTSTART:20231105T070000
END:STANDARD
BEGIN:DAYLIGHT
TZOFFSETFROM:-0600
TZOFFSETTO:-0500
TZNAME:CDT
DTSTART:20240310T080000
END:DAYLIGHT
BEGIN:STANDARD
TZOFFSETFROM:-0500
TZOFFSETTO:-0600
TZNAME:CST
DTSTART:20241103T070000
END:STANDARD
BEGIN:DAYLIGHT
TZOFFSETFROM:-0600
TZOFFSETTO:-0500
TZNAME:CDT
DTSTART:20250309T080000
END:DAYLIGHT
BEGIN:STANDARD
TZOFFSETFROM:-0500
TZOFFSETTO:-0600
TZNAME:CST
DTSTART:20251102T070000
END:STANDARD
END:VTIMEZONE
BEGIN:VEVENT
DTSTART;TZID=America/Chicago:20240406T123000
DTEND;TZID=America/Chicago:20240406T150000
DTSTAMP:20260423T113014
CREATED:20240208T150954Z
LAST-MODIFIED:20240301T021552Z
UID:10000469-1712406600-1712415600@www.lowcarbevents.com
SUMMARY:Keto San Antonio Meat-Up 2024
DESCRIPTION:Come and meet the Compass Wellness team\, Ken and Neisha Berry\, along with Chris and Miriam from Keto Chow. The MEAT-up will be at Bigz Burgers – the one at I-10/UTSA Blvd
URL:https://www.lowcarbevents.com/event/keto-san-antonio-meat-up-2024/
LOCATION:Bigz Burgers\, 5539 UTSA Boulevard\, San Antonio\, TX\, 78249\, United States
CATEGORIES:North America
ATTACH;FMTTYPE=image/jpeg:https://www.lowcarbevents.com/wp-content/uploads/2024/02/7065466472859232698.jpg.jpeg
GEO:29.577083;-98.5928362
X-APPLE-STRUCTURED-LOCATION;VALUE=URI;X-ADDRESS=Bigz Burgers 5539 UTSA Boulevard San Antonio TX 78249 United States;X-APPLE-RADIUS=500;X-TITLE=5539 UTSA Boulevard:geo:-98.5928362,29.577083
END:VEVENT
END:VCALENDAR