BEGIN:VCALENDAR
VERSION:2.0
PRODID:-//Low-Carb Events - ECPv6.15.20//NONSGML v1.0//EN
CALSCALE:GREGORIAN
METHOD:PUBLISH
X-WR-CALNAME:Low-Carb Events
X-ORIGINAL-URL:https://www.lowcarbevents.com
X-WR-CALDESC:Events for Low-Carb Events
REFRESH-INTERVAL;VALUE=DURATION:PT1H
X-Robots-Tag:noindex
X-PUBLISHED-TTL:PT1H
BEGIN:VTIMEZONE
TZID:Australia/Sydney
BEGIN:STANDARD
TZOFFSETFROM:+1100
TZOFFSETTO:+1000
TZNAME:AEST
DTSTART:20220402T160000
END:STANDARD
BEGIN:DAYLIGHT
TZOFFSETFROM:+1000
TZOFFSETTO:+1100
TZNAME:AEDT
DTSTART:20221001T160000
END:DAYLIGHT
BEGIN:STANDARD
TZOFFSETFROM:+1100
TZOFFSETTO:+1000
TZNAME:AEST
DTSTART:20230401T160000
END:STANDARD
BEGIN:DAYLIGHT
TZOFFSETFROM:+1000
TZOFFSETTO:+1100
TZNAME:AEDT
DTSTART:20230930T160000
END:DAYLIGHT
BEGIN:STANDARD
TZOFFSETFROM:+1100
TZOFFSETTO:+1000
TZNAME:AEST
DTSTART:20240406T160000
END:STANDARD
BEGIN:DAYLIGHT
TZOFFSETFROM:+1000
TZOFFSETTO:+1100
TZNAME:AEDT
DTSTART:20241005T160000
END:DAYLIGHT
END:VTIMEZONE
BEGIN:VEVENT
DTSTART;VALUE=DATE:20231013
DTEND;VALUE=DATE:20231016
DTSTAMP:20260422T012915
CREATED:20230603T223739Z
LAST-MODIFIED:20230603T223839Z
UID:10000169-1697155200-1697414399@www.lowcarbevents.com
SUMMARY:Low Carb Sydney 2023
DESCRIPTION:Tickets and information at event website: https://lowcarbdownunder.com.au/events/low-carb-sydney-2023/ \nA weekend of presentations and discussions\non low carbohydrate nutrition\nfor optimising weight and health.
URL:https://www.lowcarbevents.com/event/low-carb-sydney-2023/
LOCATION:Park Royal Parramatta\, 30 Phillip St\, Sydney\, NSW\, 2150\, Australia
CATEGORIES:Australia
ATTACH;FMTTYPE=image/webp:https://www.lowcarbevents.com/wp-content/uploads/2023/06/dan-freeman-7Zb7kUyQg1E-unsplash-2048x1365-1.webp
GEO:-33.8122314;151.0049991
X-APPLE-STRUCTURED-LOCATION;VALUE=URI;X-ADDRESS=Park Royal Parramatta 30 Phillip St Sydney NSW 2150 Australia;X-APPLE-RADIUS=500;X-TITLE=30 Phillip St:geo:151.0049991,-33.8122314
END:VEVENT
END:VCALENDAR