BEGIN:VCALENDAR
VERSION:2.0
PRODID:-//Low-Carb Events - ECPv6.15.20//NONSGML v1.0//EN
CALSCALE:GREGORIAN
METHOD:PUBLISH
X-ORIGINAL-URL:https://www.lowcarbevents.com
X-WR-CALDESC:Events for Low-Carb Events
REFRESH-INTERVAL;VALUE=DURATION:PT1H
X-Robots-Tag:noindex
X-PUBLISHED-TTL:PT1H
BEGIN:VTIMEZONE
TZID:America/Los_Angeles
BEGIN:DAYLIGHT
TZOFFSETFROM:-0800
TZOFFSETTO:-0700
TZNAME:PDT
DTSTART:20240310T100000
END:DAYLIGHT
BEGIN:STANDARD
TZOFFSETFROM:-0700
TZOFFSETTO:-0800
TZNAME:PST
DTSTART:20241103T090000
END:STANDARD
BEGIN:DAYLIGHT
TZOFFSETFROM:-0800
TZOFFSETTO:-0700
TZNAME:PDT
DTSTART:20250309T100000
END:DAYLIGHT
BEGIN:STANDARD
TZOFFSETFROM:-0700
TZOFFSETTO:-0800
TZNAME:PST
DTSTART:20251102T090000
END:STANDARD
BEGIN:DAYLIGHT
TZOFFSETFROM:-0800
TZOFFSETTO:-0700
TZNAME:PDT
DTSTART:20260308T100000
END:DAYLIGHT
BEGIN:STANDARD
TZOFFSETFROM:-0700
TZOFFSETTO:-0800
TZNAME:PST
DTSTART:20261101T090000
END:STANDARD
END:VTIMEZONE
BEGIN:VTIMEZONE
TZID:America/New_York
BEGIN:DAYLIGHT
TZOFFSETFROM:-0500
TZOFFSETTO:-0400
TZNAME:EDT
DTSTART:20230312T070000
END:DAYLIGHT
BEGIN:STANDARD
TZOFFSETFROM:-0400
TZOFFSETTO:-0500
TZNAME:EST
DTSTART:20231105T060000
END:STANDARD
BEGIN:DAYLIGHT
TZOFFSETFROM:-0500
TZOFFSETTO:-0400
TZNAME:EDT
DTSTART:20240310T070000
END:DAYLIGHT
BEGIN:STANDARD
TZOFFSETFROM:-0400
TZOFFSETTO:-0500
TZNAME:EST
DTSTART:20241103T060000
END:STANDARD
BEGIN:DAYLIGHT
TZOFFSETFROM:-0500
TZOFFSETTO:-0400
TZNAME:EDT
DTSTART:20250309T070000
END:DAYLIGHT
BEGIN:STANDARD
TZOFFSETFROM:-0400
TZOFFSETTO:-0500
TZNAME:EST
DTSTART:20251102T060000
END:STANDARD
END:VTIMEZONE
BEGIN:VTIMEZONE
TZID:America/Denver
BEGIN:DAYLIGHT
TZOFFSETFROM:-0700
TZOFFSETTO:-0600
TZNAME:MDT
DTSTART:20210314T090000
END:DAYLIGHT
BEGIN:STANDARD
TZOFFSETFROM:-0600
TZOFFSETTO:-0700
TZNAME:MST
DTSTART:20211107T080000
END:STANDARD
BEGIN:DAYLIGHT
TZOFFSETFROM:-0700
TZOFFSETTO:-0600
TZNAME:MDT
DTSTART:20220313T090000
END:DAYLIGHT
BEGIN:STANDARD
TZOFFSETFROM:-0600
TZOFFSETTO:-0700
TZNAME:MST
DTSTART:20221106T080000
END:STANDARD
BEGIN:DAYLIGHT
TZOFFSETFROM:-0700
TZOFFSETTO:-0600
TZNAME:MDT
DTSTART:20230312T090000
END:DAYLIGHT
BEGIN:STANDARD
TZOFFSETFROM:-0600
TZOFFSETTO:-0700
TZNAME:MST
DTSTART:20231105T080000
END:STANDARD
BEGIN:DAYLIGHT
TZOFFSETFROM:-0700
TZOFFSETTO:-0600
TZNAME:MDT
DTSTART:20240310T090000
END:DAYLIGHT
BEGIN:STANDARD
TZOFFSETFROM:-0600
TZOFFSETTO:-0700
TZNAME:MST
DTSTART:20241103T080000
END:STANDARD
END:VTIMEZONE
BEGIN:VEVENT
DTSTART;VALUE=DATE:20250613
DTEND;VALUE=DATE:20250621
DTSTAMP:20260423T084628
CREATED:20231109T140644Z
LAST-MODIFIED:20231109T140644Z
UID:10000189-1749772800-1750463999@www.lowcarbevents.com
SUMMARY:Low Carb Cruise 2025
DESCRIPTION:Info and more at https://www.lowcarbcruise.com/ \nWe are excited to announce the Alaska 2025 Low Carb Cruise ship & sail date. \nWe will be sailing on the Anthem of the Seas roundtrip from Seattle\, WA\, on Friday June 13\, 2025 through Friday June 20\, 2025. \nOur ports of call are Sitka\, Skagway\, cruising the Endicott Arm & Dawes Glacier\, Juneau\, and Victoria British Columbia. The seminars will be held on the Cruising days (sea days). See Cruise Itinerary clip below. \n \nEmail Debbie at ddhubbs@msn.com for pricing & information.
URL:https://www.lowcarbevents.com/event/low-carb-cruise-2025/
LOCATION:Seattle Pier 91\, 2001 W Garfield St\, Seattle\, WA\, 98119\, United States
CATEGORIES:North America
ATTACH;FMTTYPE=image/jpeg:https://www.lowcarbevents.com/wp-content/uploads/2022/05/Cruise.jpg
ORGANIZER;CN="Debbie Hubbs":MAILTO:lowcarbcruiseinfo@gmail.com
GEO:47.6268724;-122.3902793
X-APPLE-STRUCTURED-LOCATION;VALUE=URI;X-ADDRESS=Seattle Pier 91 2001 W Garfield St Seattle WA 98119 United States;X-APPLE-RADIUS=500;X-TITLE=2001 W Garfield St:geo:-122.3902793,47.6268724
END:VEVENT
BEGIN:VEVENT
DTSTART;VALUE=DATE:20240524
DTEND;VALUE=DATE:20240602
DTSTAMP:20260423T084628
CREATED:20230425T195841Z
LAST-MODIFIED:20230425T204702Z
UID:10000157-1716508800-1717286399@www.lowcarbevents.com
SUMMARY:Low Carb Cruise 2024
DESCRIPTION:Info and more at https://www.lowcarbcruise.com/ \nThe 2024 Low Carb Cruise will be sailing out of Port Canaveral\, FL on Friday May 24\, 2024 through Saturday June 1\, 2024. \nWe will be visiting St. Croix USVI\, St. Thomas\, San Juan Puerto Rico & Perfect Day at Coco Cay\, Bahamas on this 8-night cruise on Royal Caribbean’s beautiful Adventure of the Seas. \nEmail Debbie at ddhubbs@msn.com for pricing & information.
URL:https://www.lowcarbevents.com/event/low-carb-cruise-2024/
LOCATION:Port Canaveral\, Port Canaveral\, FL\, 32920\, United States
CATEGORIES:North America
ATTACH;FMTTYPE=image/jpeg:https://www.lowcarbevents.com/wp-content/uploads/2022/05/Cruise.jpg
ORGANIZER;CN="Debbie Hubbs":MAILTO:lowcarbcruiseinfo@gmail.com
GEO:28.4105867;-80.6430072
END:VEVENT
BEGIN:VEVENT
DTSTART;VALUE=DATE:20230604
DTEND;VALUE=DATE:20230612
DTSTAMP:20260423T084628
CREATED:20220512T142414Z
LAST-MODIFIED:20230123T145305Z
UID:10000132-1685836800-1686527999@www.lowcarbevents.com
SUMMARY:Low Carb Cruise 2023
DESCRIPTION:Info and more at https://www.lowcarbcruise.com/ \nTHE LOW CARB CRUISE\nThe Low Carb Cruise started out as a small group of like-minded friends & family and has grown to include friends from all over the world sailing & learning together every year.\nCan’t make 2023? Join us for our 5/24/2024 LOW CARB CRUISE sailing out of Port Canaveral.  \nEmail Debbie at ddhubbs@msn.com for pricing & information.
URL:https://www.lowcarbevents.com/event/low-carb-cruise-2023/
LOCATION:Royal Caribbean International-Cruise Terminal 2\, 2702 Harborside Dr\, Galveston\, TX\, 77550\, United States
CATEGORIES:North America
ATTACH;FMTTYPE=image/jpeg:https://www.lowcarbevents.com/wp-content/uploads/2022/05/Cruise.jpg
ORGANIZER;CN="Debbie Hubbs":MAILTO:lowcarbcruiseinfo@gmail.com
GEO:29.3079663;-94.7997285
X-APPLE-STRUCTURED-LOCATION;VALUE=URI;X-ADDRESS=Royal Caribbean International-Cruise Terminal 2 2702 Harborside Dr Galveston TX 77550 United States;X-APPLE-RADIUS=500;X-TITLE=2702 Harborside Dr:geo:-94.7997285,29.3079663
END:VEVENT
BEGIN:VEVENT
DTSTART;VALUE=DATE:20220515
DTEND;VALUE=DATE:20220522
DTSTAMP:20260423T084628
CREATED:20210201T200454Z
LAST-MODIFIED:20220510T212138Z
UID:10000106-1652572800-1653177599@www.lowcarbevents.com
SUMMARY:Low Carb Cruise 2022
DESCRIPTION:Tickets and Info: https://www.lowcarbcruise.com/ \nBook early for reduced registration fees. HAVE A FUTURE CRUISE CREDIT? WE CAN USE IT ON THIS SAILING. \nSailing on Harmony of the Seas out of Port Canaveral\, Eastern Caribbean…. visiting Cococay \, St Thomas\, St Kitts.
URL:https://www.lowcarbevents.com/event/low-carb-cruise-2022/
LOCATION:Port Canaveral\, Port Canaveral\, FL\, 32920\, United States
CATEGORIES:North America
ATTACH;FMTTYPE=image/jpeg:https://www.lowcarbevents.com/wp-content/uploads/2021/02/2022cruise.jpg
ORGANIZER;CN="Debbie Hubbs":MAILTO:lowcarbcruiseinfo@gmail.com
GEO:28.4105867;-80.6430072
END:VEVENT
END:VCALENDAR