BEGIN:VCALENDAR
VERSION:2.0
PRODID:-//Low-Carb Events - ECPv6.15.20//NONSGML v1.0//EN
CALSCALE:GREGORIAN
METHOD:PUBLISH
X-WR-CALNAME:Low-Carb Events
X-ORIGINAL-URL:https://www.lowcarbevents.com
X-WR-CALDESC:Events for Low-Carb Events
REFRESH-INTERVAL;VALUE=DURATION:PT1H
X-Robots-Tag:noindex
X-PUBLISHED-TTL:PT1H
BEGIN:VTIMEZONE
TZID:America/New_York
BEGIN:DAYLIGHT
TZOFFSETFROM:-0500
TZOFFSETTO:-0400
TZNAME:EDT
DTSTART:20230312T070000
END:DAYLIGHT
BEGIN:STANDARD
TZOFFSETFROM:-0400
TZOFFSETTO:-0500
TZNAME:EST
DTSTART:20231105T060000
END:STANDARD
BEGIN:DAYLIGHT
TZOFFSETFROM:-0500
TZOFFSETTO:-0400
TZNAME:EDT
DTSTART:20240310T070000
END:DAYLIGHT
BEGIN:STANDARD
TZOFFSETFROM:-0400
TZOFFSETTO:-0500
TZNAME:EST
DTSTART:20241103T060000
END:STANDARD
BEGIN:DAYLIGHT
TZOFFSETFROM:-0500
TZOFFSETTO:-0400
TZNAME:EDT
DTSTART:20250309T070000
END:DAYLIGHT
BEGIN:STANDARD
TZOFFSETFROM:-0400
TZOFFSETTO:-0500
TZNAME:EST
DTSTART:20251102T060000
END:STANDARD
END:VTIMEZONE
BEGIN:VTIMEZONE
TZID:America/Chicago
BEGIN:DAYLIGHT
TZOFFSETFROM:-0600
TZOFFSETTO:-0500
TZNAME:CDT
DTSTART:20230312T080000
END:DAYLIGHT
BEGIN:STANDARD
TZOFFSETFROM:-0500
TZOFFSETTO:-0600
TZNAME:CST
DTSTART:20231105T070000
END:STANDARD
BEGIN:DAYLIGHT
TZOFFSETFROM:-0600
TZOFFSETTO:-0500
TZNAME:CDT
DTSTART:20240310T080000
END:DAYLIGHT
BEGIN:STANDARD
TZOFFSETFROM:-0500
TZOFFSETTO:-0600
TZNAME:CST
DTSTART:20241103T070000
END:STANDARD
BEGIN:DAYLIGHT
TZOFFSETFROM:-0600
TZOFFSETTO:-0500
TZNAME:CDT
DTSTART:20250309T080000
END:DAYLIGHT
BEGIN:STANDARD
TZOFFSETFROM:-0500
TZOFFSETTO:-0600
TZNAME:CST
DTSTART:20251102T070000
END:STANDARD
END:VTIMEZONE
BEGIN:VEVENT
DTSTART;TZID=America/New_York:20240907T120000
DTEND;TZID=America/New_York:20240907T160000
DTSTAMP:20260423T130359
CREATED:20230918T163646Z
LAST-MODIFIED:20230918T163646Z
UID:10000174-1725710400-1725724800@www.lowcarbevents.com
SUMMARY:5th Annual NorthEast MeatUp
DESCRIPTION:Annual carnivore event at the Jersey Shore.\nMore details to come as planning gets underway
URL:https://www.lowcarbevents.com/event/5th-annual-northeast-meatup/
LOCATION:FL
CATEGORIES:North America
ATTACH;FMTTYPE=image/png:https://www.lowcarbevents.com/wp-content/uploads/2023/09/blurry-NEmeatup.png
END:VEVENT
BEGIN:VEVENT
DTSTART;VALUE=DATE:20240920
DTEND;VALUE=DATE:20240922
DTSTAMP:20260423T130359
CREATED:20240916T173705Z
LAST-MODIFIED:20240916T173705Z
UID:10001656-1726790400-1726963199@www.lowcarbevents.com
SUMMARY:Brainerd Lakes 2025
DESCRIPTION:Tickets and info: https://www.lowcarbusa.org/brainerd-lakes-2024/ref/33/ \n\n\n\n\n\n\n\n\n\nWhy You Should Attend\n\n\n\n\n\n\n\n\n\nSeveral Health Systems in the Brainerd Lakes area are working together with LowCarbUSA® and the Society of Metabolic Health Practitioners (The SMHP™) to increase awareness of metabolic health and TCR (Therapeutic Carbohydrate Reduction) as a powerful tool to treat metabolic dysfunction. \n\nExpert Insights: Understand the critical roles of insulin resistance\, hyperinsulinemia\, and inflammation in chronic diseases from world-renowned experts.\nEvidence-Based Therapies: Explore the evidence supporting carbohydrate reduction as a therapeutic intervention for a wide range of metabolic disorders such as  type 2 diabetes\, hypertension\, fatty liver\, PCOS\, cardiovascular disease\, and neurological pathologies.\nDiabetes Management: Gain invaluable insights into stabilizing blood sugar; reducing medication/insulin needs\, and decrease risk of complications in both type 2 and type 1 diabetes through innovative dietary strategies.\nObesity and Weight Loss Solutions: Discover effective strategies for treating obesity and achieving sustainable weight loss\, shared by clinicians with significant success stories.\nGlobal Health Impact: Discuss improvements in health and education policies worldwide\, focusing on the establishment of standard of care regarding therapeutic carbohydrate reduction and its clinical outcomes.\nCMEs: 7 category 1 CME credits for medical professionals.
URL:https://www.lowcarbevents.com/event/brainerd-lakes-2025/
LOCATION:Cragun’s Resort\, 11000 Craguns Dr\, Brainerd\, MN\, 56401\, United States
CATEGORIES:North America
ATTACH;FMTTYPE=image/webp:https://www.lowcarbevents.com/wp-content/uploads/2024/09/Craguns-High-Res-1600x700-1.webp
GEO:46.3906166;-94.3700829
X-APPLE-STRUCTURED-LOCATION;VALUE=URI;X-ADDRESS=Cragun’s Resort 11000 Craguns Dr Brainerd MN 56401 United States;X-APPLE-RADIUS=500;X-TITLE=11000 Craguns Dr:geo:-94.3700829,46.3906166
END:VEVENT
END:VCALENDAR