BEGIN:VCALENDAR
VERSION:2.0
PRODID:-//Low-Carb Events - ECPv6.15.20//NONSGML v1.0//EN
CALSCALE:GREGORIAN
METHOD:PUBLISH
X-WR-CALNAME:Low-Carb Events
X-ORIGINAL-URL:https://www.lowcarbevents.com
X-WR-CALDESC:Events for Low-Carb Events
REFRESH-INTERVAL;VALUE=DURATION:PT1H
X-Robots-Tag:noindex
X-PUBLISHED-TTL:PT1H
BEGIN:VTIMEZONE
TZID:America/Chicago
BEGIN:DAYLIGHT
TZOFFSETFROM:-0600
TZOFFSETTO:-0500
TZNAME:CDT
DTSTART:20220313T080000
END:DAYLIGHT
BEGIN:STANDARD
TZOFFSETFROM:-0500
TZOFFSETTO:-0600
TZNAME:CST
DTSTART:20221106T070000
END:STANDARD
BEGIN:DAYLIGHT
TZOFFSETFROM:-0600
TZOFFSETTO:-0500
TZNAME:CDT
DTSTART:20230312T080000
END:DAYLIGHT
BEGIN:STANDARD
TZOFFSETFROM:-0500
TZOFFSETTO:-0600
TZNAME:CST
DTSTART:20231105T070000
END:STANDARD
BEGIN:DAYLIGHT
TZOFFSETFROM:-0600
TZOFFSETTO:-0500
TZNAME:CDT
DTSTART:20240310T080000
END:DAYLIGHT
BEGIN:STANDARD
TZOFFSETFROM:-0500
TZOFFSETTO:-0600
TZNAME:CST
DTSTART:20241103T070000
END:STANDARD
END:VTIMEZONE
BEGIN:VEVENT
DTSTART;TZID=America/Chicago:20231021T120000
DTEND;TZID=America/Chicago:20231021T150000
DTSTAMP:20260424T040013
CREATED:20230918T164044Z
LAST-MODIFIED:20230918T164044Z
UID:10000175-1697889600-1697900400@www.lowcarbevents.com
SUMMARY:Keto Indy Meatup - Friendsgiving
DESCRIPTION:Close to Indy? Keto\, carnivore\, or just curious? Want to spend time with like-minded people? Please join us for our first Friendsgiving! Anyone willing to make the trip is welcome! Entry fee is $15 per person to help offset meat and facility costs. Payments can be made by zelle\, PayPal\, venmo or CashApp. Please be sure to use the friends and family\, not the business setting\, as it will take out a fee. Any questions or concerns? Please feel free to email me at jackiesketojourney@gmail.com. \nZelle jackiesketojourney@gmail.com\nPayPal @jackiesJinxedJourney\nVenmo @JackiesKetoJourney\nCashapp $JackiesKetoJourney
URL:https://www.lowcarbevents.com/event/keto-indy-meatup-friendsgiving/
LOCATION:Amo Indiana\, 5046 W Sycamore St\, Amo\, IN\, 46103\, United States
CATEGORIES:North America
ATTACH;FMTTYPE=image/jpeg:https://www.lowcarbevents.com/wp-content/uploads/2023/09/376505706_7462275607121065_6913256444944821379_n.jpg
ORGANIZER;CN="Jackie Smith":MAILTO:hoosiermeatup@gmail.com
GEO:39.6890071;-86.6122469
X-APPLE-STRUCTURED-LOCATION;VALUE=URI;X-ADDRESS=Amo Indiana 5046 W Sycamore St Amo IN 46103 United States;X-APPLE-RADIUS=500;X-TITLE=5046 W Sycamore St:geo:-86.6122469,39.6890071
END:VEVENT
BEGIN:VEVENT
DTSTART;TZID=America/Chicago:20231021T150000
DTEND;TZID=America/Chicago:20231021T200000
DTSTAMP:20260424T040013
CREATED:20230918T174202Z
LAST-MODIFIED:20230918T174202Z
UID:10000176-1697900400-1697918400@www.lowcarbevents.com
SUMMARY:Northern IL Meat-Up
DESCRIPTION:Carnivore/ketovore/keto and this carnivore curious are welcome! This event is in the comfort of a private home. Everyone will be encouraged to share their story. Various meat-based appetizers\, bbq dinner and dessert will be served. All attendees will receive a goodie bag. $45 per attendee; space is limited. \nSee IG for meat_margie or email margieburba@gmail.com for further info!
URL:https://www.lowcarbevents.com/event/northern-il-meat-up/
LOCATION:Wadsworth Il\, Wadsworth\, IL\, United States
CATEGORIES:North America
ATTACH;FMTTYPE=image/png:https://www.lowcarbevents.com/wp-content/uploads/2023/09/IMG_2027.png
ORGANIZER;CN="Margie Burba":MAILTO:margieburba@gmail.com
GEO:42.446923;-87.921606
END:VEVENT
END:VCALENDAR