BEGIN:VCALENDAR
VERSION:2.0
PRODID:-//Low-Carb Events - ECPv6.15.20//NONSGML v1.0//EN
CALSCALE:GREGORIAN
METHOD:PUBLISH
X-ORIGINAL-URL:https://www.lowcarbevents.com
X-WR-CALDESC:Events for Low-Carb Events
REFRESH-INTERVAL;VALUE=DURATION:PT1H
X-Robots-Tag:noindex
X-PUBLISHED-TTL:PT1H
BEGIN:VTIMEZONE
TZID:America/Denver
BEGIN:DAYLIGHT
TZOFFSETFROM:-0700
TZOFFSETTO:-0600
TZNAME:MDT
DTSTART:20240310T090000
END:DAYLIGHT
BEGIN:STANDARD
TZOFFSETFROM:-0600
TZOFFSETTO:-0700
TZNAME:MST
DTSTART:20241103T080000
END:STANDARD
BEGIN:DAYLIGHT
TZOFFSETFROM:-0700
TZOFFSETTO:-0600
TZNAME:MDT
DTSTART:20250309T090000
END:DAYLIGHT
BEGIN:STANDARD
TZOFFSETFROM:-0600
TZOFFSETTO:-0700
TZNAME:MST
DTSTART:20251102T080000
END:STANDARD
BEGIN:DAYLIGHT
TZOFFSETFROM:-0700
TZOFFSETTO:-0600
TZNAME:MDT
DTSTART:20260308T090000
END:DAYLIGHT
BEGIN:STANDARD
TZOFFSETFROM:-0600
TZOFFSETTO:-0700
TZNAME:MST
DTSTART:20261101T080000
END:STANDARD
END:VTIMEZONE
BEGIN:VEVENT
DTSTART;VALUE=DATE:20250201
DTEND;VALUE=DATE:20250208
DTSTAMP:20260424T182350
CREATED:20241113T143950Z
LAST-MODIFIED:20241118T155303Z
UID:10001664-1738368000-1738972799@www.lowcarbevents.com
SUMMARY:CARB SOBER CRUISE with CarnivoreDoctor
DESCRIPTION:This will be a laid back and relaxing cruise together where we will gather at meals & pool & beach times & shows & music venues & maybe join into excursions together.\nI will do lots of Q&A wherever I am with whomever I’m with! \nThis is NOT a formal speaker type event…. we will be out sunning on the deck and not sitting in conference rooms for this one so if that is what you are after\, you will need to look elsewhere.\nI will schedule a meeting room for the first day at sea for us to meet and for everyone to get some information and I will hand out fun bright silicone Carnivore Doctor Carb Sober Cruise wristbands that I’ll have made so we can easily identify others on the ship with us when out & about & around the ship to easily gather and get to enjoy time with each other. \nI will get a meeting room on one of the “at sea” days and do a CARB SOBER presentation and maybe a Vision & Ocular Health Q & A if there is interest. This is an opportunity to be on vacation with me and lots of other carnivores to eat lots of meat & seafood and have lots of meaty conversations and connections. An opportunity to stay Carb Sober on vacation and enjoy a trip where there will be lots of butter but NO bread baskets on the dinner table! \nI am booking myself for the Early Dining seating & I will attempt to arrange for 2\, 3 or 4 tables of 10 to have dinner together each evening depending on how many sign up for the cruise! Or we can arrange to meet at the carving station at the buffet restaurant ? \nI want this to be a really fun relaxed trip to be together with like-minded health conscious meat eating new found carb sober friends! \nJOIN ME!
URL:https://www.lowcarbevents.com/event/carb-sober-cruise-with-carnivoredoctor/
LOCATION:Port Canaveral\, Port Canaveral\, FL\, 32920\, United States
CATEGORIES:North America
ATTACH;FMTTYPE=image/jpeg:https://www.lowcarbevents.com/wp-content/uploads/2024/11/cruise-new-thumb-2.jpeg
GEO:28.4105867;-80.6430072
END:VEVENT
END:VCALENDAR