BEGIN:VCALENDAR
VERSION:2.0
PRODID:-//Low-Carb Events - ECPv6.15.20//NONSGML v1.0//EN
CALSCALE:GREGORIAN
METHOD:PUBLISH
X-WR-CALNAME:Low-Carb Events
X-ORIGINAL-URL:https://www.lowcarbevents.com
X-WR-CALDESC:Events for Low-Carb Events
REFRESH-INTERVAL;VALUE=DURATION:PT1H
X-Robots-Tag:noindex
X-PUBLISHED-TTL:PT1H
BEGIN:VTIMEZONE
TZID:America/Chicago
BEGIN:DAYLIGHT
TZOFFSETFROM:-0600
TZOFFSETTO:-0500
TZNAME:CDT
DTSTART:20230312T080000
END:DAYLIGHT
BEGIN:STANDARD
TZOFFSETFROM:-0500
TZOFFSETTO:-0600
TZNAME:CST
DTSTART:20231105T070000
END:STANDARD
BEGIN:DAYLIGHT
TZOFFSETFROM:-0600
TZOFFSETTO:-0500
TZNAME:CDT
DTSTART:20240310T080000
END:DAYLIGHT
BEGIN:STANDARD
TZOFFSETFROM:-0500
TZOFFSETTO:-0600
TZNAME:CST
DTSTART:20241103T070000
END:STANDARD
BEGIN:DAYLIGHT
TZOFFSETFROM:-0600
TZOFFSETTO:-0500
TZNAME:CDT
DTSTART:20250309T080000
END:DAYLIGHT
BEGIN:STANDARD
TZOFFSETFROM:-0500
TZOFFSETTO:-0600
TZNAME:CST
DTSTART:20251102T070000
END:STANDARD
END:VTIMEZONE
BEGIN:VEVENT
DTSTART;VALUE=DATE:20240531
DTEND;VALUE=DATE:20240603
DTSTAMP:20260425T071431
CREATED:20190701T215407Z
LAST-MODIFIED:20240214T152726Z
UID:10000098-1717113600-1717372799@www.lowcarbevents.com
SUMMARY:Hack your Health by Ketocon 2024
DESCRIPTION:Tickets and info: https://hackyourhealth.com/ \nThe World’s Largest Conference For Hacking Your Health! Learn cutting edge health hacks from world class speakers and surround yourself with like-minded supportive people like you! Providing Cutting-Edge Science To Reach Your Health Goals \nSince its 2017 inception\, Hack Your Health (previously KetoCon) has been a guiding force in the health and wellness community\, delivering cutting-edge science\, research\, and real life success stories of improved metabolic health through the use of low carb\, zero carb and ketogenic diets. \nEach year\, our annual event has united the community for equal parts education and celebration\, with a focus on nutrition. \nNow\, we are taking it a step further with our transformative evolution to Hack Your Health! \nAt Hack Your Health our mission is to educate our attendees on how to improve metabolic health\, enhance well-being in all areas of life\, and upgrade their quality of life with biohacking. \nWe achieve this goal by fostering a supportive community that encourages growth\, development\, and connection with like minded individuals. \nHack Your Health is an immersive experience for our attendees; one that leaves them feeling inspired and motivated! \nHack Your Health by KetoCon is a conference series owned and organized by Q1 Productions\, LLC. \nGet ready to embark on an extraordinary adventure with Hack Your Health!
URL:https://www.lowcarbevents.com/event/ketocon/
LOCATION:Palmer Events Center\, 900 Barton Springs Road\, Austin\, TX\, 78767\, United States
CATEGORIES:North America
ATTACH;FMTTYPE=image/png:https://www.lowcarbevents.com/wp-content/uploads/2019/07/411461311_692779072955916_4494288755815643605_n.png
ORGANIZER;CN="Robin Switzer":MAILTO:info@ketocon.org
GEO:30.2606889;-97.7549786
X-APPLE-STRUCTURED-LOCATION;VALUE=URI;X-ADDRESS=Palmer Events Center 900 Barton Springs Road Austin TX 78767 United States;X-APPLE-RADIUS=500;X-TITLE=900 Barton Springs Road:geo:-97.7549786,30.2606889
END:VEVENT
END:VCALENDAR