BEGIN:VCALENDAR
VERSION:2.0
PRODID:-//Low-Carb Events - ECPv6.15.20//NONSGML v1.0//EN
CALSCALE:GREGORIAN
METHOD:PUBLISH
X-WR-CALNAME:Low-Carb Events
X-ORIGINAL-URL:https://www.lowcarbevents.com
X-WR-CALDESC:Events for Low-Carb Events
REFRESH-INTERVAL;VALUE=DURATION:PT1H
X-Robots-Tag:noindex
X-PUBLISHED-TTL:PT1H
BEGIN:VTIMEZONE
TZID:America/Chicago
BEGIN:DAYLIGHT
TZOFFSETFROM:-0600
TZOFFSETTO:-0500
TZNAME:CDT
DTSTART:20230312T080000
END:DAYLIGHT
BEGIN:STANDARD
TZOFFSETFROM:-0500
TZOFFSETTO:-0600
TZNAME:CST
DTSTART:20231105T070000
END:STANDARD
BEGIN:DAYLIGHT
TZOFFSETFROM:-0600
TZOFFSETTO:-0500
TZNAME:CDT
DTSTART:20240310T080000
END:DAYLIGHT
BEGIN:STANDARD
TZOFFSETFROM:-0500
TZOFFSETTO:-0600
TZNAME:CST
DTSTART:20241103T070000
END:STANDARD
BEGIN:DAYLIGHT
TZOFFSETFROM:-0600
TZOFFSETTO:-0500
TZNAME:CDT
DTSTART:20250309T080000
END:DAYLIGHT
BEGIN:STANDARD
TZOFFSETFROM:-0500
TZOFFSETTO:-0600
TZNAME:CST
DTSTART:20251102T070000
END:STANDARD
END:VTIMEZONE
BEGIN:VEVENT
DTSTART;TZID=America/Chicago:20240217T120000
DTEND;TZID=America/Chicago:20240217T150000
DTSTAMP:20260425T111632
CREATED:20240108T220229Z
LAST-MODIFIED:20240109T170603Z
UID:10000196-1708171200-1708182000@www.lowcarbevents.com
SUMMARY:KETO/CARNIVORE. MEAT UP
DESCRIPTION:Keto/ carnivore meat up in Tyler Texas. This will be a potluck. Bring a meat or keto side or dessert. We will also have a table to trade keto snacks or weightloss or health items. Please RSVP to Lindy Britt at paleobarbie@yahoo.com
URL:https://www.lowcarbevents.com/event/keto-carnivore-meat-up/
LOCATION:Bethel Bible Church\, Tyler Texas\, 17121 US-69\, Tyler\, TX\, 75703\, United States
CATEGORIES:North America
ATTACH;FMTTYPE=image/png:https://www.lowcarbevents.com/wp-content/uploads/2024/01/2076CD99-2E27-4AB9-B8FA-D26032A98636.png
ORGANIZER;CN="Lindy Britt":MAILTO:paleobarbie@yahoo.com
GEO:32.2313883;-95.3116544
X-APPLE-STRUCTURED-LOCATION;VALUE=URI;X-ADDRESS=Bethel Bible Church Tyler Texas 17121 US-69 Tyler TX 75703 United States;X-APPLE-RADIUS=500;X-TITLE=17121 US-69:geo:-95.3116544,32.2313883
END:VEVENT
END:VCALENDAR