BEGIN:VCALENDAR
VERSION:2.0
PRODID:-//Low-Carb Events - ECPv6.15.20//NONSGML v1.0//EN
CALSCALE:GREGORIAN
METHOD:PUBLISH
X-ORIGINAL-URL:https://www.lowcarbevents.com
X-WR-CALDESC:Events for Low-Carb Events
REFRESH-INTERVAL;VALUE=DURATION:PT1H
X-Robots-Tag:noindex
X-PUBLISHED-TTL:PT1H
BEGIN:VTIMEZONE
TZID:America/New_York
BEGIN:DAYLIGHT
TZOFFSETFROM:-0500
TZOFFSETTO:-0400
TZNAME:EDT
DTSTART:20230312T070000
END:DAYLIGHT
BEGIN:STANDARD
TZOFFSETFROM:-0400
TZOFFSETTO:-0500
TZNAME:EST
DTSTART:20231105T060000
END:STANDARD
BEGIN:DAYLIGHT
TZOFFSETFROM:-0500
TZOFFSETTO:-0400
TZNAME:EDT
DTSTART:20240310T070000
END:DAYLIGHT
BEGIN:STANDARD
TZOFFSETFROM:-0400
TZOFFSETTO:-0500
TZNAME:EST
DTSTART:20241103T060000
END:STANDARD
BEGIN:DAYLIGHT
TZOFFSETFROM:-0500
TZOFFSETTO:-0400
TZNAME:EDT
DTSTART:20250309T070000
END:DAYLIGHT
BEGIN:STANDARD
TZOFFSETFROM:-0400
TZOFFSETTO:-0500
TZNAME:EST
DTSTART:20251102T060000
END:STANDARD
END:VTIMEZONE
BEGIN:VEVENT
DTSTART;TZID=America/New_York:20240120T110000
DTEND;TZID=America/New_York:20240120T140000
DTSTAMP:20260424T102716
CREATED:20240101T204126Z
LAST-MODIFIED:20240101T204126Z
UID:10000194-1705748400-1705759200@www.lowcarbevents.com
SUMMARY:VA/DC/MD meatup
DESCRIPTION:VA/MD/DC meatup. January 20th. This time we’ll meet at the Longhorn Steakhouse\, 9695 Liberia Ave\, Manassas\, VA 20110. 11AM. Please RSVP if possible!!! \nCharly will be bringing a “treat” for all to sample. There might be some door prizes as well ?. \nWe vary our meetup locations as to make it not too inconvenient for everyone. Our goal is to get groups going in the different areas. \nSee you soon!!!
URL:https://www.lowcarbevents.com/event/va-dc-md-meatup-2/
LOCATION:Longhorn Steakhouse Manassas\, VA\, 9695 Liberia Ave\, Manassas\, VA\, United States
CATEGORIES:North America
ORGANIZER;CN="Patti Jinks":MAILTO:Pattisa2j@yahoo.com
GEO:38.746684;-77.449538
X-APPLE-STRUCTURED-LOCATION;VALUE=URI;X-ADDRESS=Longhorn Steakhouse Manassas VA 9695 Liberia Ave Manassas VA United States;X-APPLE-RADIUS=500;X-TITLE=9695 Liberia Ave:geo:-77.449538,38.746684
END:VEVENT
END:VCALENDAR