BEGIN:VCALENDAR
VERSION:2.0
PRODID:-//Low-Carb Events - ECPv6.15.20//NONSGML v1.0//EN
CALSCALE:GREGORIAN
METHOD:PUBLISH
X-WR-CALNAME:Low-Carb Events
X-ORIGINAL-URL:https://www.lowcarbevents.com
X-WR-CALDESC:Events for Low-Carb Events
REFRESH-INTERVAL;VALUE=DURATION:PT1H
X-Robots-Tag:noindex
X-PUBLISHED-TTL:PT1H
BEGIN:VTIMEZONE
TZID:America/Denver
BEGIN:DAYLIGHT
TZOFFSETFROM:-0700
TZOFFSETTO:-0600
TZNAME:MDT
DTSTART:20220313T090000
END:DAYLIGHT
BEGIN:STANDARD
TZOFFSETFROM:-0600
TZOFFSETTO:-0700
TZNAME:MST
DTSTART:20221106T080000
END:STANDARD
BEGIN:DAYLIGHT
TZOFFSETFROM:-0700
TZOFFSETTO:-0600
TZNAME:MDT
DTSTART:20230312T090000
END:DAYLIGHT
BEGIN:STANDARD
TZOFFSETFROM:-0600
TZOFFSETTO:-0700
TZNAME:MST
DTSTART:20231105T080000
END:STANDARD
BEGIN:DAYLIGHT
TZOFFSETFROM:-0700
TZOFFSETTO:-0600
TZNAME:MDT
DTSTART:20240310T090000
END:DAYLIGHT
BEGIN:STANDARD
TZOFFSETFROM:-0600
TZOFFSETTO:-0700
TZNAME:MST
DTSTART:20241103T080000
END:STANDARD
END:VTIMEZONE
BEGIN:VEVENT
DTSTART;VALUE=DATE:20230602
DTEND;VALUE=DATE:20230612
DTSTAMP:20260423T043008
CREATED:20220626T144219Z
LAST-MODIFIED:20220626T144310Z
UID:10000135-1685664000-1686527999@www.lowcarbevents.com
SUMMARY:A Keto Adventure in Italy
DESCRIPTION:Information and tickets at https://www.millevietravel.com/a-keto-adventure \nMilan. Lake Como. Cinque Terre. Tuscany. Rome.\nJune 2-11\, 2023 \nA collection of must-see stops for poets\, artists\, and lovers alike \nJoin international bestselling author and wellness expert Maria Emmerich for a fun and flavorful keto-friendly adventure\, where you’ll delve into the connection between food and feeling through a series of intimate lectures on the ketogenic lifestyle – all paired alongside exquisite local tastings and rich historical landmarks.
URL:https://www.lowcarbevents.com/event/a-keto-adventure-in-italy/
LOCATION:Milan Malpensa Airport\, 21010 Ferno\, Varese\, Varese\, Italy
CATEGORIES:Europe
ATTACH;FMTTYPE=image/png:https://www.lowcarbevents.com/wp-content/uploads/2022/06/5-e1656254498296.png
GEO:45.6300625;8.7255307
X-APPLE-STRUCTURED-LOCATION;VALUE=URI;X-ADDRESS=Milan Malpensa Airport 21010 Ferno Varese Varese Italy;X-APPLE-RADIUS=500;X-TITLE=21010 Ferno:geo:8.7255307,45.6300625
END:VEVENT
END:VCALENDAR