BEGIN:VCALENDAR
VERSION:2.0
PRODID:-//Low-Carb Events - ECPv6.15.20//NONSGML v1.0//EN
CALSCALE:GREGORIAN
METHOD:PUBLISH
X-ORIGINAL-URL:https://www.lowcarbevents.com
X-WR-CALDESC:Events for Low-Carb Events
REFRESH-INTERVAL;VALUE=DURATION:PT1H
X-Robots-Tag:noindex
X-PUBLISHED-TTL:PT1H
BEGIN:VTIMEZONE
TZID:America/Denver
BEGIN:DAYLIGHT
TZOFFSETFROM:-0700
TZOFFSETTO:-0600
TZNAME:MDT
DTSTART:20220313T090000
END:DAYLIGHT
BEGIN:STANDARD
TZOFFSETFROM:-0600
TZOFFSETTO:-0700
TZNAME:MST
DTSTART:20221106T080000
END:STANDARD
BEGIN:DAYLIGHT
TZOFFSETFROM:-0700
TZOFFSETTO:-0600
TZNAME:MDT
DTSTART:20230312T090000
END:DAYLIGHT
BEGIN:STANDARD
TZOFFSETFROM:-0600
TZOFFSETTO:-0700
TZNAME:MST
DTSTART:20231105T080000
END:STANDARD
BEGIN:DAYLIGHT
TZOFFSETFROM:-0700
TZOFFSETTO:-0600
TZNAME:MDT
DTSTART:20240310T090000
END:DAYLIGHT
BEGIN:STANDARD
TZOFFSETFROM:-0600
TZOFFSETTO:-0700
TZNAME:MST
DTSTART:20241103T080000
END:STANDARD
END:VTIMEZONE
BEGIN:VEVENT
DTSTART;VALUE=DATE:20230430
DTEND;VALUE=DATE:20230507
DTSTAMP:20260423T233324
CREATED:20220614T143203Z
LAST-MODIFIED:20220614T143203Z
UID:10000134-1682812800-1683417599@www.lowcarbevents.com
SUMMARY:Keto in Bali with Maria Emmerich
DESCRIPTION:More information at: https://trips.trovatrip.com/trips/indonesia-with-maria–emmerich-apr-2023\nGet lost in rice fields\, play with monkeys\, shop local markets\, enjoy traditional Balinese food and make new friendships that will last a lifetime. Bali is a magical place with an abundance of beaches and breathtaking views.
URL:https://www.lowcarbevents.com/event/keto-in-bali-with-maria-emmerich/
LOCATION:Ngurah Rai International Airport\, Indonesia
CATEGORIES:Asia
ATTACH;FMTTYPE=image/jpeg:https://www.lowcarbevents.com/wp-content/uploads/2022/06/Keto-in-Bali-with-Maria-Emmerich.jpg
GEO:-8.7467172;115.166787
END:VEVENT
END:VCALENDAR