BEGIN:VCALENDAR
VERSION:2.0
PRODID:-//Low-Carb Events - ECPv6.15.20//NONSGML v1.0//EN
CALSCALE:GREGORIAN
METHOD:PUBLISH
X-ORIGINAL-URL:https://www.lowcarbevents.com
X-WR-CALDESC:Events for Low-Carb Events
REFRESH-INTERVAL;VALUE=DURATION:PT1H
X-Robots-Tag:noindex
X-PUBLISHED-TTL:PT1H
BEGIN:VTIMEZONE
TZID:America/New_York
BEGIN:DAYLIGHT
TZOFFSETFROM:-0500
TZOFFSETTO:-0400
TZNAME:EDT
DTSTART:20220313T070000
END:DAYLIGHT
BEGIN:STANDARD
TZOFFSETFROM:-0400
TZOFFSETTO:-0500
TZNAME:EST
DTSTART:20221106T060000
END:STANDARD
BEGIN:DAYLIGHT
TZOFFSETFROM:-0500
TZOFFSETTO:-0400
TZNAME:EDT
DTSTART:20230312T070000
END:DAYLIGHT
BEGIN:STANDARD
TZOFFSETFROM:-0400
TZOFFSETTO:-0500
TZNAME:EST
DTSTART:20231105T060000
END:STANDARD
BEGIN:DAYLIGHT
TZOFFSETFROM:-0500
TZOFFSETTO:-0400
TZNAME:EDT
DTSTART:20240310T070000
END:DAYLIGHT
BEGIN:STANDARD
TZOFFSETFROM:-0400
TZOFFSETTO:-0500
TZNAME:EST
DTSTART:20241103T060000
END:STANDARD
END:VTIMEZONE
BEGIN:VEVENT
DTSTART;VALUE=DATE:20230714
DTEND;VALUE=DATE:20230716
DTSTAMP:20260424T045942
CREATED:20230120T150246Z
LAST-MODIFIED:20230120T161646Z
UID:10000148-1689292800-1689465599@www.lowcarbevents.com
SUMMARY:Antithetic Baltimore 2023
DESCRIPTION:Additional information at the event website: https://apxts.com/conference/ \n\n\nWhy “Antithetic”?\n“anti-thetic” (adj.) \n1. sharply contrasted in character or purpose \nIn order to change your life you have to do things differently. \nThings that are antithetic to one another contradict or oppose each other. You might say that eating too many processed carbs is antithetic to living a healthy and optimal quality of life. \nThe adjective antithetic is perfect for describing something that clashes with or cancels something else out. Your current lifestyle is antithetic to the lifestyle you strive to have. \nThe things you’ve done in the past\, what you ate\, your physical activity\, or your mindset around food….have all contributed to a state of poor health and are the reason you’re trying to make changes today. \nIt’s time to BE.DIFFERENT and move to the next level! \n\n\n\n\nThis conference will be the FIRST-EVER major event in Maryland\, focused on combining practical mindset concepts\, a  Ketogenic diet\, and Fitness principles to help you improve your quality of life.
URL:https://www.lowcarbevents.com/event/antithetic-baltimore-2023/
LOCATION:DoubleTree by Hilton Hotel Columbia\, 5485 Twin Knolls Rd\, Columbia\, MD\, 21045\, United States
CATEGORIES:North America
ATTACH;FMTTYPE=image/png:https://www.lowcarbevents.com/wp-content/uploads/2022/11/coming-soon-Antithetic-Baltimore-Square.png
GEO:39.222456;-76.841644
X-APPLE-STRUCTURED-LOCATION;VALUE=URI;X-ADDRESS=DoubleTree by Hilton Hotel Columbia 5485 Twin Knolls Rd Columbia MD 21045 United States;X-APPLE-RADIUS=500;X-TITLE=5485 Twin Knolls Rd:geo:-76.841644,39.222456
END:VEVENT
END:VCALENDAR