BEGIN:VCALENDAR
VERSION:2.0
PRODID:-//Low-Carb Events - ECPv6.15.20//NONSGML v1.0//EN
CALSCALE:GREGORIAN
METHOD:PUBLISH
X-WR-CALNAME:Low-Carb Events
X-ORIGINAL-URL:https://www.lowcarbevents.com
X-WR-CALDESC:Events for Low-Carb Events
REFRESH-INTERVAL;VALUE=DURATION:PT1H
X-Robots-Tag:noindex
X-PUBLISHED-TTL:PT1H
BEGIN:VTIMEZONE
TZID:America/Denver
BEGIN:DAYLIGHT
TZOFFSETFROM:-0700
TZOFFSETTO:-0600
TZNAME:MDT
DTSTART:20250309T090000
END:DAYLIGHT
BEGIN:STANDARD
TZOFFSETFROM:-0600
TZOFFSETTO:-0700
TZNAME:MST
DTSTART:20251102T080000
END:STANDARD
BEGIN:DAYLIGHT
TZOFFSETFROM:-0700
TZOFFSETTO:-0600
TZNAME:MDT
DTSTART:20260308T090000
END:DAYLIGHT
BEGIN:STANDARD
TZOFFSETFROM:-0600
TZOFFSETTO:-0700
TZNAME:MST
DTSTART:20261101T080000
END:STANDARD
BEGIN:DAYLIGHT
TZOFFSETFROM:-0700
TZOFFSETTO:-0600
TZNAME:MDT
DTSTART:20270314T090000
END:DAYLIGHT
BEGIN:STANDARD
TZOFFSETFROM:-0600
TZOFFSETTO:-0700
TZNAME:MST
DTSTART:20271107T080000
END:STANDARD
END:VTIMEZONE
BEGIN:VTIMEZONE
TZID:America/New_York
BEGIN:DAYLIGHT
TZOFFSETFROM:-0500
TZOFFSETTO:-0400
TZNAME:EDT
DTSTART:20250309T070000
END:DAYLIGHT
BEGIN:STANDARD
TZOFFSETFROM:-0400
TZOFFSETTO:-0500
TZNAME:EST
DTSTART:20251102T060000
END:STANDARD
BEGIN:DAYLIGHT
TZOFFSETFROM:-0500
TZOFFSETTO:-0400
TZNAME:EDT
DTSTART:20260308T070000
END:DAYLIGHT
BEGIN:STANDARD
TZOFFSETFROM:-0400
TZOFFSETTO:-0500
TZNAME:EST
DTSTART:20261101T060000
END:STANDARD
BEGIN:DAYLIGHT
TZOFFSETFROM:-0500
TZOFFSETTO:-0400
TZNAME:EDT
DTSTART:20270314T070000
END:DAYLIGHT
BEGIN:STANDARD
TZOFFSETFROM:-0400
TZOFFSETTO:-0500
TZNAME:EST
DTSTART:20271107T060000
END:STANDARD
END:VTIMEZONE
BEGIN:VTIMEZONE
TZID:America/Los_Angeles
BEGIN:DAYLIGHT
TZOFFSETFROM:-0800
TZOFFSETTO:-0700
TZNAME:PDT
DTSTART:20260308T100000
END:DAYLIGHT
BEGIN:STANDARD
TZOFFSETFROM:-0700
TZOFFSETTO:-0800
TZNAME:PST
DTSTART:20261101T090000
END:STANDARD
BEGIN:DAYLIGHT
TZOFFSETFROM:-0800
TZOFFSETTO:-0700
TZNAME:PDT
DTSTART:20270314T100000
END:DAYLIGHT
BEGIN:STANDARD
TZOFFSETFROM:-0700
TZOFFSETTO:-0800
TZNAME:PST
DTSTART:20271107T090000
END:STANDARD
BEGIN:DAYLIGHT
TZOFFSETFROM:-0800
TZOFFSETTO:-0700
TZNAME:PDT
DTSTART:20280312T100000
END:DAYLIGHT
BEGIN:STANDARD
TZOFFSETFROM:-0700
TZOFFSETTO:-0800
TZNAME:PST
DTSTART:20281105T090000
END:STANDARD
END:VTIMEZONE
BEGIN:VEVENT
DTSTART;VALUE=DATE:20260531
DTEND;VALUE=DATE:20260608
DTSTAMP:20260421T214631
CREATED:20250201T162238Z
LAST-MODIFIED:20250201T162238Z
UID:10001671-1780185600-1780876799@www.lowcarbevents.com
SUMMARY:Low Carb Cruise 2026
DESCRIPTION:Info and more at https://www.lowcarbcruise.com/ \nThe 2026 Low Carb Cruise will be sailing on Royal Caribbeans SYMPHONY OF THE SEAS roundtrip from Galveston\, TX on Sunday\, May 31\, through Sunday\, June 7\, 2026. \nOur ports of call are Roatan\, Honduras; Puerto Costa Maya\, Mexico; and Cozumel Mexico. \n 
URL:https://www.lowcarbevents.com/event/low-carb-cruise-2026/
LOCATION:Royal Caribbean International-Cruise Terminal 2\, 2702 Harborside Dr\, Galveston\, TX\, 77550\, United States
CATEGORIES:North America
ATTACH;FMTTYPE=image/jpeg:https://www.lowcarbevents.com/wp-content/uploads/2025/02/unnamed.jpg
ORGANIZER;CN="Debbie Hubbs":MAILTO:lowcarbcruiseinfo@gmail.com
GEO:29.3079663;-94.7997285
X-APPLE-STRUCTURED-LOCATION;VALUE=URI;X-ADDRESS=Royal Caribbean International-Cruise Terminal 2 2702 Harborside Dr Galveston TX 77550 United States;X-APPLE-RADIUS=500;X-TITLE=2702 Harborside Dr:geo:-94.7997285,29.3079663
END:VEVENT
BEGIN:VEVENT
DTSTART;VALUE=DATE:20261004
DTEND;VALUE=DATE:20261012
DTSTAMP:20260421T214631
CREATED:20251010T132531Z
LAST-MODIFIED:20251010T132531Z
UID:10001697-1791072000-1791763199@www.lowcarbevents.com
SUMMARY:2026 2kk Getaway Cruise
DESCRIPTION:JOIN THE RACHEL\, JOE AND THE 2 KRAZY KETOS FAMILY FOR A 7 NIGHT CARIBBEAN ADVENTURE ON THE MSC SEASHORE WHILE WE CRUISE FROM PORT CANAVERAL TO NASSAU\, COZUMEL\, COSTA MAYA AND OCEAN CAY MARINE RESERVE. PRICES START AS LOW AS $564 PER PERSON FOR AN INSIDE CABIN. \nThis will be a fun way to hang out and get to know each other while enjoying a fun vacation. and we will also be celebrating Rachel’s 50th Birthday. \nThere are no speakers\, mandatory meetings and absolutely NO Keto Police. \nThere will be a conference room for some optional games and activities and we will dine together for dinner.
URL:https://www.lowcarbevents.com/event/2026-2kk-getaway-cruise/
LOCATION:Port Canaveral\, Port Canaveral\, FL\, 32920\, United States
CATEGORIES:North America
ATTACH;FMTTYPE=image/png:https://www.lowcarbevents.com/wp-content/uploads/2025/10/2026-2kk-Getaway.png
GEO:28.4105867;-80.6430072
END:VEVENT
BEGIN:VEVENT
DTSTART;VALUE=DATE:20270611
DTEND;VALUE=DATE:20270619
DTSTAMP:20260421T214631
CREATED:20260209T151843Z
LAST-MODIFIED:20260209T151843Z
UID:10001707-1812672000-1813363199@www.lowcarbevents.com
SUMMARY:Low Carb Cruise 2027
DESCRIPTION:Info and more at https://www.lowcarbcruise.com/ \nThe 2027 Low Carb Cruise Is Officially Here! \nLow Carb Cruise 2027\nDeparts from Long Beach\, CA\nJune 11–18\, 2027\nNavigator of the Seas \nCabo • Mazatlán • Puerto Vallarta \nThis is not just a cruise. This is a Seminar at Sea\, where world-class experts\, powerful education\, and real community come together in one unforgettable week. \nHere’s what makes this different: \n\nExpert-led presentations you can actually understand and use\nReal conversations with speakers…not just stage time\nA community of people who understand and seek metabolic health\nNo food guilt. No diet rules. No judgment. No perfection required\nA brand-new destination itinerary we’ve never done before\n\nYou’ll learn.\nYou’ll relax.\nYou’ll connect.\nAnd you’ll come home changed\, not overwhelmed. \nThis cruise is for you if:\nYou want education without extremes\nYou’re tired of starting over after vacation\nYou value science\, sustainability\, and community\nYou want something meaningful to look forward to \nEarly booking matters.\nThe best cabins go first\, and the people who commit early always have the best options.
URL:https://www.lowcarbevents.com/event/low-carb-cruise-2027/
LOCATION:Long Beach Cruise Terminal\, 231 Windsor Way\, Long Beach\, CA\, 90802\, United States
CATEGORIES:North America
ATTACH;FMTTYPE=image/jpeg:https://www.lowcarbevents.com/wp-content/uploads/2026/02/unnamed.jpg
ORGANIZER;CN="Debbie Hubbs":MAILTO:lowcarbcruiseinfo@gmail.com
GEO:33.7512272;-118.1894139
X-APPLE-STRUCTURED-LOCATION;VALUE=URI;X-ADDRESS=Long Beach Cruise Terminal 231 Windsor Way Long Beach CA 90802 United States;X-APPLE-RADIUS=500;X-TITLE=231 Windsor Way:geo:-118.1894139,33.7512272
END:VEVENT
END:VCALENDAR