BEGIN:VCALENDAR
VERSION:2.0
PRODID:-//Low-Carb Events - ECPv6.15.20//NONSGML v1.0//EN
CALSCALE:GREGORIAN
METHOD:PUBLISH
X-ORIGINAL-URL:https://www.lowcarbevents.com
X-WR-CALDESC:Events for Low-Carb Events
REFRESH-INTERVAL;VALUE=DURATION:PT1H
X-Robots-Tag:noindex
X-PUBLISHED-TTL:PT1H
BEGIN:VTIMEZONE
TZID:America/New_York
BEGIN:DAYLIGHT
TZOFFSETFROM:-0500
TZOFFSETTO:-0400
TZNAME:EDT
DTSTART:20240310T070000
END:DAYLIGHT
BEGIN:STANDARD
TZOFFSETFROM:-0400
TZOFFSETTO:-0500
TZNAME:EST
DTSTART:20241103T060000
END:STANDARD
BEGIN:DAYLIGHT
TZOFFSETFROM:-0500
TZOFFSETTO:-0400
TZNAME:EDT
DTSTART:20250309T070000
END:DAYLIGHT
BEGIN:STANDARD
TZOFFSETFROM:-0400
TZOFFSETTO:-0500
TZNAME:EST
DTSTART:20251102T060000
END:STANDARD
BEGIN:DAYLIGHT
TZOFFSETFROM:-0500
TZOFFSETTO:-0400
TZNAME:EDT
DTSTART:20260308T070000
END:DAYLIGHT
BEGIN:STANDARD
TZOFFSETFROM:-0400
TZOFFSETTO:-0500
TZNAME:EST
DTSTART:20261101T060000
END:STANDARD
END:VTIMEZONE
BEGIN:VEVENT
DTSTART;TZID=America/New_York:20250517T090000
DTEND;TZID=America/New_York:20250518T163000
DTSTAMP:20260425T095843
CREATED:20240809T211524Z
LAST-MODIFIED:20240917T155558Z
UID:10001650-1747472400-1747585800@www.lowcarbevents.com
SUMMARY:Meatstock 2025
DESCRIPTION:Event information at https://www.meatstock2025.com/\nExperience the true magic of feeling part of a community and learn from the world’s trailblazing experts in the ancestral\, keto\, and carnivore spaces. \nOur weekend convention will take place on May 17th and 18th from 9 AM to 4:30 PM at The Venue at Greenbrier Estate\, 2855 East Pkwy\, Gatlinburg\, TN 37738. This isn’t your typical convention hall! Weather permitting\, the speeches will be held in a large green space connected to the venue\, surrounded by the most breathtaking view of the Smokey Mountains. The convention hall is a beautiful wood and stone building with all-natural lighting. \nTickets are limited in quantity and must be reserved online. They are sold on a first-come\, first-served basis! \nFood will be available for purchase at the convention but is included at no extra cost for retreat guests. A $20 food ticket will provide you with carnivore lunches for both days at the convention. \nWe’ll be fundraising for the newly formed American Diabetes Society\, headed by Dr. Ken Berry\, and we’ll have some extraordinary prizes up for grabs! \nThe event schedule will be released in August 2024.
URL:https://www.lowcarbevents.com/event/meatstock-2025/
LOCATION:Greenbrier Estate\, 2855 East Pkwy\, Gatlinburg\, TN\, 37738\, United States
CATEGORIES:North America
ATTACH;FMTTYPE=image/jpeg:https://www.lowcarbevents.com/wp-content/uploads/2024/08/Meatstock-2025.jpg
GEO:35.7520451;-83.3933183
X-APPLE-STRUCTURED-LOCATION;VALUE=URI;X-ADDRESS=Greenbrier Estate 2855 East Pkwy Gatlinburg TN 37738 United States;X-APPLE-RADIUS=500;X-TITLE=2855 East Pkwy:geo:-83.3933183,35.7520451
END:VEVENT
END:VCALENDAR