BEGIN:VCALENDAR
VERSION:2.0
PRODID:-//Low-Carb Events - ECPv6.15.20//NONSGML v1.0//EN
CALSCALE:GREGORIAN
METHOD:PUBLISH
X-ORIGINAL-URL:https://www.lowcarbevents.com
X-WR-CALDESC:Events for Low-Carb Events
REFRESH-INTERVAL;VALUE=DURATION:PT1H
X-Robots-Tag:noindex
X-PUBLISHED-TTL:PT1H
BEGIN:VTIMEZONE
TZID:America/New_York
BEGIN:DAYLIGHT
TZOFFSETFROM:-0500
TZOFFSETTO:-0400
TZNAME:EDT
DTSTART:20250309T070000
END:DAYLIGHT
BEGIN:STANDARD
TZOFFSETFROM:-0400
TZOFFSETTO:-0500
TZNAME:EST
DTSTART:20251102T060000
END:STANDARD
BEGIN:DAYLIGHT
TZOFFSETFROM:-0500
TZOFFSETTO:-0400
TZNAME:EDT
DTSTART:20260308T070000
END:DAYLIGHT
BEGIN:STANDARD
TZOFFSETFROM:-0400
TZOFFSETTO:-0500
TZNAME:EST
DTSTART:20261101T060000
END:STANDARD
BEGIN:DAYLIGHT
TZOFFSETFROM:-0500
TZOFFSETTO:-0400
TZNAME:EDT
DTSTART:20270314T070000
END:DAYLIGHT
BEGIN:STANDARD
TZOFFSETFROM:-0400
TZOFFSETTO:-0500
TZNAME:EST
DTSTART:20271107T060000
END:STANDARD
END:VTIMEZONE
BEGIN:VEVENT
DTSTART;VALUE=DATE:20261004
DTEND;VALUE=DATE:20261012
DTSTAMP:20260421T203626
CREATED:20251010T132531Z
LAST-MODIFIED:20251010T132531Z
UID:10001697-1791072000-1791763199@www.lowcarbevents.com
SUMMARY:2026 2kk Getaway Cruise
DESCRIPTION:JOIN THE RACHEL\, JOE AND THE 2 KRAZY KETOS FAMILY FOR A 7 NIGHT CARIBBEAN ADVENTURE ON THE MSC SEASHORE WHILE WE CRUISE FROM PORT CANAVERAL TO NASSAU\, COZUMEL\, COSTA MAYA AND OCEAN CAY MARINE RESERVE. PRICES START AS LOW AS $564 PER PERSON FOR AN INSIDE CABIN. \nThis will be a fun way to hang out and get to know each other while enjoying a fun vacation. and we will also be celebrating Rachel’s 50th Birthday. \nThere are no speakers\, mandatory meetings and absolutely NO Keto Police. \nThere will be a conference room for some optional games and activities and we will dine together for dinner.
URL:https://www.lowcarbevents.com/event/2026-2kk-getaway-cruise/
LOCATION:Port Canaveral\, Port Canaveral\, FL\, 32920\, United States
CATEGORIES:North America
ATTACH;FMTTYPE=image/png:https://www.lowcarbevents.com/wp-content/uploads/2025/10/2026-2kk-Getaway.png
GEO:28.4105867;-80.6430072
END:VEVENT
END:VCALENDAR