BEGIN:VCALENDAR
VERSION:2.0
PRODID:-//Low-Carb Events - ECPv6.15.20//NONSGML v1.0//EN
CALSCALE:GREGORIAN
METHOD:PUBLISH
X-ORIGINAL-URL:https://www.lowcarbevents.com
X-WR-CALDESC:Events for Low-Carb Events
REFRESH-INTERVAL;VALUE=DURATION:PT1H
X-Robots-Tag:noindex
X-PUBLISHED-TTL:PT1H
BEGIN:VTIMEZONE
TZID:America/Denver
BEGIN:DAYLIGHT
TZOFFSETFROM:-0700
TZOFFSETTO:-0600
TZNAME:MDT
DTSTART:20200308T090000
END:DAYLIGHT
BEGIN:STANDARD
TZOFFSETFROM:-0600
TZOFFSETTO:-0700
TZNAME:MST
DTSTART:20201101T080000
END:STANDARD
BEGIN:DAYLIGHT
TZOFFSETFROM:-0700
TZOFFSETTO:-0600
TZNAME:MDT
DTSTART:20210314T090000
END:DAYLIGHT
BEGIN:STANDARD
TZOFFSETFROM:-0600
TZOFFSETTO:-0700
TZNAME:MST
DTSTART:20211107T080000
END:STANDARD
BEGIN:DAYLIGHT
TZOFFSETFROM:-0700
TZOFFSETTO:-0600
TZNAME:MDT
DTSTART:20220313T090000
END:DAYLIGHT
BEGIN:STANDARD
TZOFFSETFROM:-0600
TZOFFSETTO:-0700
TZNAME:MST
DTSTART:20221106T080000
END:STANDARD
END:VTIMEZONE
BEGIN:VTIMEZONE
TZID:America/Chicago
BEGIN:DAYLIGHT
TZOFFSETFROM:-0600
TZOFFSETTO:-0500
TZNAME:CDT
DTSTART:20200308T080000
END:DAYLIGHT
BEGIN:STANDARD
TZOFFSETFROM:-0500
TZOFFSETTO:-0600
TZNAME:CST
DTSTART:20201101T070000
END:STANDARD
BEGIN:DAYLIGHT
TZOFFSETFROM:-0600
TZOFFSETTO:-0500
TZNAME:CDT
DTSTART:20210314T080000
END:DAYLIGHT
BEGIN:STANDARD
TZOFFSETFROM:-0500
TZOFFSETTO:-0600
TZNAME:CST
DTSTART:20211107T070000
END:STANDARD
BEGIN:DAYLIGHT
TZOFFSETFROM:-0600
TZOFFSETTO:-0500
TZNAME:CDT
DTSTART:20220313T080000
END:DAYLIGHT
BEGIN:STANDARD
TZOFFSETFROM:-0500
TZOFFSETTO:-0600
TZNAME:CST
DTSTART:20221106T070000
END:STANDARD
END:VTIMEZONE
BEGIN:VEVENT
DTSTART;VALUE=DATE:20210821
DTEND;VALUE=DATE:20210823
DTSTAMP:20260422T071338
CREATED:20200901T184406Z
LAST-MODIFIED:20210312T194632Z
UID:10000105-1629504000-1629676799@www.lowcarbevents.com
SUMMARY:Ketopalooza expo
DESCRIPTION:What is Ketopalooza?\nPassion\nKetopalooza is a keto convention hosted by the keto community for the keto community\, it covers all ketogenic diets including everything from traditional ketogenic dieting to carnivore and low carb high fat dieting. Whether you’re new to keto or have a passion for it and want to learn from the experts and regular people who have been where you are\, Ketopalooza is the place to be! \nInfo\nKetopalooza will be held at the Liberty station conference center in sunny San Diego\, June 5th\, and 6th 2021. follow the link for tickets! \nhttps://www.instagram.com/ketopalooza_expo/
URL:https://www.lowcarbevents.com/event/ketopalooza-expo/
LOCATION:Liberty Station Conference Center\, 2600 Laning Rd\, San Diego\, CA\, 92106\, United States
CATEGORIES:North America
ATTACH;FMTTYPE=image/jpeg:https://www.lowcarbevents.com/wp-content/uploads/2020/09/155157801_245245487271640_3907536259753730581_n.jpg
END:VEVENT
BEGIN:VEVENT
DTSTART;TZID=America/Chicago:20210717T150000
DTEND;TZID=America/Chicago:20210717T190000
DTSTAMP:20260422T071338
CREATED:20210705T142635Z
LAST-MODIFIED:20210705T144005Z
UID:10000116-1626534000-1626548400@www.lowcarbevents.com
SUMMARY:A BBQ Hoedown
DESCRIPTION:Are you ready for the biggest Texas Keto Event of 2021!?!! \nHosted by @ketocoach.health @gainzbakery_cafe & @hayscobbq \nLIVE BAND\nBEST TEXAS BBQ\nDOUNUT BAR\nGOODYBAGS\nAND MUCH MORE! \nDid I mention that this is a free event for everybody! We missed everyone and so we wanted to get the community back together again. We have some amazing people already confirmed to be at the event\, you don’t want to miss out! \nHope to see y’all there!
URL:https://www.lowcarbevents.com/event/a-bbq-hoedown/
LOCATION:Hays Country BBQ\, 1612 S Interstate 35\, San Marcos\, TX\, United States
CATEGORIES:North America
ATTACH;FMTTYPE=image/png:https://www.lowcarbevents.com/wp-content/uploads/2021/07/BBQ-HoeDown.png
GEO:29.8636142;-97.9494931
X-APPLE-STRUCTURED-LOCATION;VALUE=URI;X-ADDRESS=Hays Country BBQ 1612 S Interstate 35 San Marcos TX United States;X-APPLE-RADIUS=500;X-TITLE=1612 S Interstate 35:geo:-97.9494931,29.8636142
END:VEVENT
END:VCALENDAR